BEGIN:VCALENDAR
VERSION:2.0
PRODID:-//TY HUB - ECPv6.15.20//NONSGML v1.0//EN
CALSCALE:GREGORIAN
METHOD:PUBLISH
X-ORIGINAL-URL:https://tyhub.ie
X-WR-CALDESC:Events for TY HUB
REFRESH-INTERVAL;VALUE=DURATION:PT1H
X-Robots-Tag:noindex
X-PUBLISHED-TTL:PT1H
BEGIN:VTIMEZONE
TZID:UTC
BEGIN:STANDARD
TZOFFSETFROM:+0000
TZOFFSETTO:+0000
TZNAME:UTC
DTSTART:20250101T000000
END:STANDARD
END:VTIMEZONE
BEGIN:VEVENT
DTSTART;TZID=UTC:20261004T080000
DTEND;TZID=UTC:20261010T170000
DTSTAMP:20260422T140808
CREATED:20260120T093030Z
LAST-MODIFIED:20260120T104901Z
UID:2888-1791100800-1791651600@tyhub.ie
SUMMARY:Space Week 2026
DESCRIPTION:About Space Week \n\n\n\nSpace Week is Ireland’s newest national STEM week\, in parallel with World Space Week\, taking place from the 4th to the 10th of October. It is a week where we will ask the people of Ireland to focus on: \n\n\n\nOur Planet\, Our Space\, Our Time\n\n\n\nStudents\, families\, community groups and members of the public will come together with the space community\, professional astrophysicists\, the broader educational community\, artists\, hobby astronomers and space scientists to use the powers of creativity\, critical thinking\, science\, technology\, engineering and maths to focus on the wonders and realities of the Universe around us.
URL:https://tyhub.ie/event/space-week-2026/
END:VEVENT
BEGIN:VEVENT
DTSTART;TZID=UTC:20261010T080000
DTEND;TZID=UTC:20261018T170000
DTSTAMP:20260422T140808
CREATED:20260120T100944Z
LAST-MODIFIED:20260120T104404Z
UID:2898-1791619200-1792342800@tyhub.ie
SUMMARY:Maths Week 2026
DESCRIPTION:Maths Week Ireland is an all-island initiative promoting positive attitudes towards maths and highlighting the importance of maths in our lives since 2006. This annual festival is a collaborative partnership of organisations including all the universities\, institutes of technology\, professional bodies\, visitor centres and more. \n\n\n\nMaths Week has grown to attract participation from as many as 520\,000 people annually across the island of Ireland. \n\n\n\nhttps://www.mathsweek.ie/2025
URL:https://tyhub.ie/event/maths-week-2026/
END:VEVENT
END:VCALENDAR