BEGIN:VCALENDAR
VERSION:2.0
PRODID:-//TY HUB - ECPv6.15.20//NONSGML v1.0//EN
CALSCALE:GREGORIAN
METHOD:PUBLISH
X-WR-CALNAME:TY HUB
X-ORIGINAL-URL:https://tyhub.ie
X-WR-CALDESC:Events for TY HUB
REFRESH-INTERVAL;VALUE=DURATION:PT1H
X-Robots-Tag:noindex
X-PUBLISHED-TTL:PT1H
BEGIN:VTIMEZONE
TZID:UTC
BEGIN:STANDARD
TZOFFSETFROM:+0000
TZOFFSETTO:+0000
TZNAME:UTC
DTSTART:20250101T000000
END:STANDARD
END:VTIMEZONE
BEGIN:VEVENT
DTSTART;TZID=UTC:20260922T090000
DTEND;TZID=UTC:20260922T160000
DTSTAMP:20260420T105035
CREATED:20251217T115747Z
LAST-MODIFIED:20260120T104944Z
UID:2866-1790067600-1790092800@tyhub.ie
SUMMARY:Re:Mind Experience - IRELAND’S PREMIUM YOUTH WELLNESS EXPERIENCE.
DESCRIPTION:What is Re:Mind? \n\n\n\nHelping To Build Resilience For Future Challenges \n\n\n\nRe:Mind’s mission is to spark a movement – creating a safe\, inclusive\, and relatable space for all young people. \n\n\n\nOne fun-filled day\, we’re bringing together senior cycle students\, educators and wellness leaders for an experience packed with energy\, inspiration\, and connection. \n\n\n\nStep into 6 immersive zones packed with interactive sessions\, live talks\, hands-on workshops\, laughter lounge\, and live music\, all designed to help students build resilience\, boost confidence\, anddevelop real-life wellbeing skills that last long beyond the classroom. This is learning\, laughter\, and self-discovery — all rolled into one unforgettable experience! \n\n\n\nWhy Attend?\n\n\n\nBecause now\, more than ever\, students deserve spaces that are safe\, empowering\, and genuinely engaging — where wellbeing feels relatable\, relevant\, and real. \n\n\n\nIt’s a chance to Re:Connect with yourself\, Re:Charge your energy\, and Re:Discover what helps you thrive\, all in a vibrant\, festival-style setting. \n\n\n\nPositively aligned with the NEART Initiative led by the Department of Education\, Re:Mind celebrates wellbeing as a core part of every student’s learning journey.
URL:https://tyhub.ie/event/remind-experience-irelands-premium-youth-wellness-experience/
ORGANIZER;CN="Re%3AMind Experience":MAILTO:info@remindexperience.ie
END:VEVENT
END:VCALENDAR